BEGIN:VCALENDAR
VERSION:2.0
PRODID:-//Jesus Party - ECPv6.10.1.1//NONSGML v1.0//EN
CALSCALE:GREGORIAN
METHOD:PUBLISH
X-WR-CALNAME:Jesus Party
X-ORIGINAL-URL:https://www.jesusparty.net
X-WR-CALDESC:Events for Jesus Party
REFRESH-INTERVAL;VALUE=DURATION:PT1H
X-Robots-Tag:noindex
X-PUBLISHED-TTL:PT1H
BEGIN:VTIMEZONE
TZID:America/Denver
BEGIN:DAYLIGHT
TZOFFSETFROM:-0700
TZOFFSETTO:-0600
TZNAME:MDT
DTSTART:20210314T090000
END:DAYLIGHT
BEGIN:STANDARD
TZOFFSETFROM:-0600
TZOFFSETTO:-0700
TZNAME:MST
DTSTART:20211107T080000
END:STANDARD
END:VTIMEZONE
BEGIN:VEVENT
DTSTART;TZID=America/Denver:20210912T080000
DTEND;TZID=America/Denver:20210912T170000
DTSTAMP:20260420T181447
CREATED:20210902T193507Z
LAST-MODIFIED:20210902T195224Z
UID:845-1631433600-1631466000@www.jesusparty.net
SUMMARY:I Am the Change Prayer Walk Sept 12/5pm @ City Hall
DESCRIPTION:Coming up is the I AM THE CHANGE Prayer Walk Sept. 12 @ 5 PM hosted by To Go Christian Church. \nThere will be worship\, prayer\, and petitions lifted up to our Heavenly Father for our families\, nation\, and world. Come be a part of the prayer movement. \n \n  \njesuspartyThe Jesus Party exists to promote gospel maturity\, unity\, and diversity in the body of Christ through education\, arts\, and community services. We are a collective of Christian authors\,  and thinkers speaking on issues that affect our faith.
URL:https://www.jesusparty.net/event/i-am-the-change-prayer-walk-sept-12-5pm-city-hall/
ATTACH;FMTTYPE=image/jpeg:https://www.jesusparty.net/wp-content/uploads/2021/09/Change_2021_Facebook_banner5.jpg
END:VEVENT
END:VCALENDAR